BEGIN:VCALENDAR
VERSION:2.0
PRODID:spatie/icalendar-generator
DESCRIPTION:自然食 Bioのイベント
X-WR-CALDESC:自然食 Bioのイベント
REFRESH-INTERVAL;VALUE=DURATION:PT1440M
X-PUBLISHED-TTL:PT1440M
BEGIN:VTIMEZONE
TZID:Asia/Tokyo
BEGIN:STANDARD
DTSTART:20210416T130000Z
TZOFFSETFROM:+0900
TZOFFSETTO:+0900
END:STANDARD
END:VTIMEZONE
BEGIN:VTIMEZONE
TZID:UTC
BEGIN:STANDARD
DTSTART:20250725T052722Z
TZOFFSETFROM:+0000
TZOFFSETTO:+0000
END:STANDARD
END:VTIMEZONE
BEGIN:VEVENT
UID:22-2
DTSTAMP:20260421T052722Z
SUMMARY:玄米ごぱん
LOCATION:
ORGANIZER;CN=はたのゆみ:MAILTO:yumi_hatano@oak758.com
RRULE:FREQ=WEEKLY;COUNT=10
DTSTART;TZID=Asia/Tokyo:20220111T130000
DTEND;TZID=Asia/Tokyo:20220111T140000
X-ALT-DESC;FMTTYPE=TEXT/HTML:
CATEGORIES:玄米ごぱん(BRB)
URL;VALUE=URI:https://s-bio.jp/mc-events/%e7%8e%84%e7%b1%b3%e3%81%94%e3%81%
 b1%e3%82%93-2/?mc_id=22
END:VEVENT
END:VCALENDAR